BEGIN:VCALENDAR
VERSION:2.0
PRODID:-//Raro Recanto - ECPv6.15.15//NONSGML v1.0//EN
CALSCALE:GREGORIAN
METHOD:PUBLISH
X-WR-CALNAME:Raro Recanto
X-ORIGINAL-URL:https://rarorecanto.com.br
X-WR-CALDESC:Eventos para Raro Recanto
REFRESH-INTERVAL;VALUE=DURATION:PT1H
X-Robots-Tag:noindex
X-PUBLISHED-TTL:PT1H
BEGIN:VTIMEZONE
TZID:UTC
BEGIN:STANDARD
TZOFFSETFROM:+0000
TZOFFSETTO:+0000
TZNAME:UTC
DTSTART:20210101T000000
END:STANDARD
END:VTIMEZONE
BEGIN:VEVENT
DTSTART;TZID=UTC:20220703T080000
DTEND;TZID=UTC:20221001T170000
DTSTAMP:20260423T195430
CREATED:20211122T183231Z
LAST-MODIFIED:20211122T183231Z
UID:21465-1656835200-1664643600@rarorecanto.com.br
SUMMARY:National Pancake Festival
DESCRIPTION:
URL:https://rarorecanto.com.br/event/national-pancake-festival/
LOCATION:Manhattan Club\, 350 5th Ave\, New York\, 10118\, United States
CATEGORIES:Food Fest
ATTACH;FMTTYPE=image/jpeg:https://rarorecanto.com.br/wp-content/uploads/2021/11/image-151-copyright.jpg
ORGANIZER;CN="Ashton Porter":MAILTO:info@example.com
END:VEVENT
END:VCALENDAR